BEGIN:VCALENDAR
VERSION:2.0
PRODID:-//The National Society of The Colonial Dames of America in The State of Rhode Island - ECPv6.15.18//NONSGML v1.0//EN
CALSCALE:GREGORIAN
METHOD:PUBLISH
X-WR-CALNAME:The National Society of The Colonial Dames of America in The State of Rhode Island
X-ORIGINAL-URL:https://nscdari.org
X-WR-CALDESC:Events for The National Society of The Colonial Dames of America in The State of Rhode Island
REFRESH-INTERVAL;VALUE=DURATION:PT1H
X-Robots-Tag:noindex
X-PUBLISHED-TTL:PT1H
BEGIN:VTIMEZONE
TZID:America/New_York
BEGIN:DAYLIGHT
TZOFFSETFROM:-0500
TZOFFSETTO:-0400
TZNAME:EDT
DTSTART:20240310T070000
END:DAYLIGHT
BEGIN:STANDARD
TZOFFSETFROM:-0400
TZOFFSETTO:-0500
TZNAME:EST
DTSTART:20241103T060000
END:STANDARD
BEGIN:DAYLIGHT
TZOFFSETFROM:-0500
TZOFFSETTO:-0400
TZNAME:EDT
DTSTART:20250309T070000
END:DAYLIGHT
BEGIN:STANDARD
TZOFFSETFROM:-0400
TZOFFSETTO:-0500
TZNAME:EST
DTSTART:20251102T060000
END:STANDARD
BEGIN:DAYLIGHT
TZOFFSETFROM:-0500
TZOFFSETTO:-0400
TZNAME:EDT
DTSTART:20260308T070000
END:DAYLIGHT
BEGIN:STANDARD
TZOFFSETFROM:-0400
TZOFFSETTO:-0500
TZNAME:EST
DTSTART:20261101T060000
END:STANDARD
END:VTIMEZONE
BEGIN:VEVENT
DTSTART;TZID=America/New_York:20251207T130000
DTEND;TZID=America/New_York:20251207T150000
DTSTAMP:20260424T113909
CREATED:20250422T142350Z
LAST-MODIFIED:20251111T193514Z
UID:1095-1765112400-1765119600@nscdari.org
SUMMARY:Christmas Open House
DESCRIPTION:Our Christmas gathering is an opportunity to invite our neighbors and the public to experience Whitehall\, and to learn a bit about what we do to honor George Berkeley’s important contribution to the intellectual life of the Colonies. \nBeyond the lovely decorations of greens and fruit and candles (now electric) which are reminiscent of an earlier time\, the house is filled with traditional Christmas music\, provided by a live musician and our guests\, who love to sing along. The Colonial Dames prepare a wassail bowl and delicious Christmas treats. We welcome guests of all ages to experience an old fashioned way of celebrating Christmas\, without modern commercial overtones. Members of the Newport artillery welcome our guests and join in the festivities. \nFollowing current CDC guidelines
URL:https://nscdari.org/event/christmas-open-house/
END:VEVENT
BEGIN:VEVENT
DTSTART;VALUE=DATE:20250617
DTEND;VALUE=DATE:20250618
DTSTAMP:20260424T113909
CREATED:20250422T140713Z
LAST-MODIFIED:20250422T140907Z
UID:1089-1750118400-1750204799@nscdari.org
SUMMARY:Whitehall Open to Public
DESCRIPTION:Whitehall will be open Tuesday afternoons from 1-4pm\, beginning June 17\, 2025 with additional times to be announced.\nFor Inquiries\, please contact our email nscdari1893@gmail.com or call (401) 846-3116.
URL:https://nscdari.org/event/whitehall-open-to-public/
LOCATION:Whitehall Museum House\, 311 Berkeley Ave\,\, Middletown\, RI\, 02842\, United States
END:VEVENT
END:VCALENDAR